BEGIN:VCALENDAR
VERSION:2.0
PRODID:-//Chapter Fahrten - ECPv5.9.0//NONSGML v1.0//EN
CALSCALE:GREGORIAN
METHOD:PUBLISH
X-WR-CALNAME:Chapter Fahrten
X-ORIGINAL-URL:https://www.chapter-fahrten.de
X-WR-CALDESC:Veranstaltungen für Chapter Fahrten
BEGIN:VTIMEZONE
TZID:Europe/Berlin
BEGIN:DAYLIGHT
TZOFFSETFROM:+0100
TZOFFSETTO:+0200
TZNAME:CEST
DTSTART:20260329T010000
END:DAYLIGHT
BEGIN:STANDARD
TZOFFSETFROM:+0200
TZOFFSETTO:+0100
TZNAME:CET
DTSTART:20261025T010000
END:STANDARD
END:VTIMEZONE
BEGIN:VEVENT
DTSTART;TZID=Europe/Berlin:20260425T083000
DTEND;TZID=Europe/Berlin:20260425T170000
DTSTAMP:20260421T143155
CREATED:20251214T170036Z
LAST-MODIFIED:20260413T105031Z
UID:15781-1777105800-1777136400@www.chapter-fahrten.de
SUMMARY:Fahrsicherheitstraining (25.4.)
DESCRIPTION:
URL:https://www.chapter-fahrten.de/on-tour/fahrsicherheitstraining-19-4-2026-04-25/
LOCATION:Fulda\, Fulda\, 36043\, Deutschland
CATEGORIES:Kostenpflichtige Tourteilnahme,Nationale Touren
ATTACH;FMTTYPE=image/jpeg:https://www.chapter-fahrten.de/wp-content/uploads/04.19_fasi.jpg
END:VEVENT
END:VCALENDAR