BEGIN:VCALENDAR
VERSION:2.0
PRODID:-//Chapter Fahrten - ECPv5.9.0//NONSGML v1.0//EN
CALSCALE:GREGORIAN
METHOD:PUBLISH
X-WR-CALNAME:Chapter Fahrten
X-ORIGINAL-URL:https://www.chapter-fahrten.de
X-WR-CALDESC:Veranstaltungen für Chapter Fahrten
BEGIN:VTIMEZONE
TZID:Europe/Berlin
BEGIN:DAYLIGHT
TZOFFSETFROM:+0100
TZOFFSETTO:+0200
TZNAME:CEST
DTSTART:20260329T010000
END:DAYLIGHT
BEGIN:STANDARD
TZOFFSETFROM:+0200
TZOFFSETTO:+0100
TZNAME:CET
DTSTART:20261025T010000
END:STANDARD
END:VTIMEZONE
BEGIN:VEVENT
DTSTART;VALUE=DATE:20260604
DTEND;VALUE=DATE:20260608
DTSTAMP:20260421T160909
CREATED:20251214T170055Z
LAST-MODIFIED:20260123T103437Z
UID:15724-1780531200-1780876799@www.chapter-fahrten.de
SUMMARY:Harztour
DESCRIPTION:
URL:https://www.chapter-fahrten.de/on-tour/harztour/
LOCATION:Harz\, Deutschland
CATEGORIES:Kostenpflichtige Tourteilnahme,Nationale Touren
ATTACH;FMTTYPE=image/jpeg:https://www.chapter-fahrten.de/wp-content/uploads/06.04_harz.jpg
END:VEVENT
END:VCALENDAR