BEGIN:VCALENDAR
VERSION:2.0
PRODID:-//Chapter Fahrten - ECPv5.9.0//NONSGML v1.0//EN
CALSCALE:GREGORIAN
METHOD:PUBLISH
X-WR-CALNAME:Chapter Fahrten
X-ORIGINAL-URL:https://www.chapter-fahrten.de
X-WR-CALDESC:Veranstaltungen für Chapter Fahrten
BEGIN:VTIMEZONE
TZID:Europe/Berlin
BEGIN:DAYLIGHT
TZOFFSETFROM:+0100
TZOFFSETTO:+0200
TZNAME:CEST
DTSTART:20240331T010000
END:DAYLIGHT
BEGIN:STANDARD
TZOFFSETFROM:+0200
TZOFFSETTO:+0100
TZNAME:CET
DTSTART:20241027T010000
END:STANDARD
END:VTIMEZONE
BEGIN:VEVENT
DTSTART;VALUE=DATE:20240530
DTEND;VALUE=DATE:20240603
DTSTAMP:20260421T134342
CREATED:20231219T170008Z
LAST-MODIFIED:20240106T115107Z
UID:12610-1717027200-1717372799@www.chapter-fahrten.de
SUMMARY:Schwarzwald
DESCRIPTION:
URL:https://www.chapter-fahrten.de/on-tour/schwarzwald-2/
LOCATION:Gengenbach\, Ortenau-Kreis\, 77723\, Deutschland
CATEGORIES:Kostenpflichtige Tourteilnahme,Nationale Touren
ATTACH;FMTTYPE=image/jpeg:https://www.chapter-fahrten.de/wp-content/uploads/08.17.-schwarzwald_3.jpg
END:VEVENT
END:VCALENDAR