BEGIN:VCALENDAR
VERSION:2.0
PRODID:-//Chapter Fahrten - ECPv5.9.0//NONSGML v1.0//EN
CALSCALE:GREGORIAN
METHOD:PUBLISH
X-WR-CALNAME:Chapter Fahrten
X-ORIGINAL-URL:https://www.chapter-fahrten.de
X-WR-CALDESC:Veranstaltungen für Chapter Fahrten
BEGIN:VTIMEZONE
TZID:Europe/Berlin
BEGIN:DAYLIGHT
TZOFFSETFROM:+0100
TZOFFSETTO:+0200
TZNAME:CEST
DTSTART:20250330T010000
END:DAYLIGHT
BEGIN:STANDARD
TZOFFSETFROM:+0200
TZOFFSETTO:+0100
TZNAME:CET
DTSTART:20251026T010000
END:STANDARD
END:VTIMEZONE
BEGIN:VEVENT
DTSTART;TZID=Europe/Berlin:20251129T190000
DTEND;TZID=Europe/Berlin:20251129T235900
DTSTAMP:20260422T033442
CREATED:20241210T180046Z
LAST-MODIFIED:20251128T205017Z
UID:14182-1764442800-1764460740@www.chapter-fahrten.de
SUMMARY:Season End FD - 25 Jahre Chapter Fulda-Rhön
DESCRIPTION:
URL:https://www.chapter-fahrten.de/on-tour/season-end-fd-25-jahre-chapter-fulda-rhoen/
LOCATION:Esperanto Fulda\, Fulda\, Deutschland
CATEGORIES:Kostenpflichtige Tourteilnahme,Nationale Touren
ATTACH;FMTTYPE=image/jpeg:https://www.chapter-fahrten.de/wp-content/uploads/2019-05-25_harley-davidson_hellfire-bike-weekend-print-176-scaled.jpg
END:VEVENT
END:VCALENDAR