BEGIN:VCALENDAR
VERSION:2.0
PRODID:-//Chapter Fahrten - ECPv5.9.0//NONSGML v1.0//EN
CALSCALE:GREGORIAN
METHOD:PUBLISH
X-WR-CALNAME:Chapter Fahrten
X-ORIGINAL-URL:https://www.chapter-fahrten.de
X-WR-CALDESC:Veranstaltungen für Chapter Fahrten
BEGIN:VTIMEZONE
TZID:Europe/Berlin
BEGIN:DAYLIGHT
TZOFFSETFROM:+0100
TZOFFSETTO:+0200
TZNAME:CEST
DTSTART:20250330T010000
END:DAYLIGHT
BEGIN:STANDARD
TZOFFSETFROM:+0200
TZOFFSETTO:+0100
TZNAME:CET
DTSTART:20251026T010000
END:STANDARD
END:VTIMEZONE
BEGIN:VEVENT
DTSTART;VALUE=DATE:20250810
DTEND;VALUE=DATE:20250815
DTSTAMP:20260423T073210
CREATED:20241210T230010Z
LAST-MODIFIED:20250701T065723Z
UID:14291-1754784000-1755215999@www.chapter-fahrten.de
SUMMARY:Zillertal
DESCRIPTION:
URL:https://www.chapter-fahrten.de/on-tour/zillertal-3/
LOCATION:Zillertal\, Österreich
CATEGORIES:Internationale Touren,Kostenpflichtige Tourteilnahme
ATTACH;FMTTYPE=image/jpeg:https://www.chapter-fahrten.de/wp-content/uploads/zillertal-24.jpg
END:VEVENT
END:VCALENDAR